BEGIN:VCALENDAR
VERSION:2.0
PRODID:-//https://kirche-zellerau.de///NONSGML kigkonsult.se iCalcreator 2.10.15//
METHOD:PUBLISH
BEGIN:VEVENT
UID:20260422T065156CEST-4198oWCFo2@https://kirche-zellerau.de/
DTSTAMP:20260422T045156Z
DESCRIPTION:Mit Genuss-Kaffee und Kuchen to go\n\nWöchentlich wiederkehrend
  Angebote:\nMontag: 10:00 Uhr Gesundheits-Walk … Lauf deinem Schmerz davon
 &nbsp\;· 16:00 Uhr Gymastik MS-Gruppe · 17:45 Uhr Seniorenchor für Mensche
 n mit Demenz und ihre Angehörigen (nicht am 03.02.25)Dienstag: 13:30 Uhr S
 itztanz · 15:00 Uhr TischtennisMittwoch: 10:00 Uhr Nordic WalkingDonnersta
 g:&nbsp\; 08:15 Uhr Englisch · 13:00 Uhr Schafkopf · 13-16:00 Uhr Behörden
  Coach · 15:00 Uhr Tischtennis\nZusätzliche Angebote:\nGenuss-Café und Kuc
 hen To go: Dienstag\, 04.02. und 11.02.\, um 14:30 UhrSpielenachmittag: Do
 nnerstag\, 06.02.\, um 14:00 UhrStrickkreis: Donnerstag\, 06.02.\, um 14:0
 0 UhrTreffen Egerländer G´moi: Montag\, 10.02.\, um 13:30 UhrMeditativer T
 anz: Montag\, 10.02.\, um 14:00 UhrTrauer-Treff der Malteser: Mittwoch\, 1
 2.02.\, um 17:00 Uhr (bei den Maltesern\, Mainaustraße 45)Ganzheitliches G
 edächtnistraining: Donnerstag\, 13.02. und 27.02.\, um 10:00 UhrPflege- un
 d Wohnberatung: Freitag\, 14.02.\, von 09:00 - 12:00 Uhr (Offenes Beratung
 sangebot im Quartier Zellerau)CCK (Cocktails-Canapés-Kultur): Mittwoch\, 1
 9.02.\, 13:00 Uhr\; 13:30 Uhr Besichtigung des Matthias-Ehrenfried-HausesF
 asching mit Ottmar Albert im ABZ: Mittwoch\, 26.02.\, von 14:11 Uhr\nBitte
  beachten Sie folgendes:  • Nur mit Anmeldung ist eine Teilnahme möglich! 
 Tel:0931/38659-145 • Wir bitten Sie\, unser Haus nicht zu betreten\, wenn 
 Sie an grippeähnlichen Symptomen leiden: wie Husten\, Halsschmerzen\, Fieb
 er\, Schnupfen oder Atemnot.\nIhr ABZ-Team https://kirche-zellerau.de/aktu
 elles/kalender/event/1731-genuss-café-und-kuchen-to-go-im-abz
DTSTART:20250204T133000Z
DTEND:20250204T220000Z
LOCATION:ABZ Heiligkreuz (Sedanstraße 7A\, 97082\, Würzburg\, Bayern)
SUMMARY:Genuss-Café und Kuchen to go im ABZ
URL:https://kirche-zellerau.de/aktuelles/kalender/event/1731-genuss-café-un
 d-kuchen-to-go-im-abz
END:VEVENT
END:VCALENDAR
