BEGIN:VCALENDAR
VERSION:2.0
PRODID:-//https://kirche-zellerau.de///NONSGML kigkonsult.se iCalcreator 2.10.15//
METHOD:PUBLISH
BEGIN:VEVENT
UID:20260421T133057CEST-08094P1J56@https://kirche-zellerau.de/
DTSTAMP:20260421T113057Z
DESCRIPTION:Englisch im ABZ. Details zur Anmeldung unter Tel.: 0931 38659-1
 45 oder abz@caritas-wuerzburg.org.\n\nWöchentlich wiederkehrend Angebote:
 \nMontag: 10:00 Uhr Gesundheits-Walk … Lauf deinem Schmerz davon&nbsp\;· 1
 6:00 Uhr Gymastik MS-Gruppe&nbsp\;· 17:45 Uhr Seniorenchor für Menschen mi
 t Demenz und ihre Angehörigen (19. und 26.02.2024)Dienstag: 13:30 Uhr Sitz
 tanz · 15:00 Uhr TischtennisMittwoch: 10:00 Uhr Nordic Walking entfällt im
  JanuarDonnerstag:&nbsp\; 08:15 Uhr Englisch (Info im ABZ) · 13:00 Uhr Sch
 afkopf · 15:00 Uhr Tischtennis&nbsp\;·&nbsp\; 13-16:00 Uhr Behörden Coach
 \nZusätzliche Angebote:\nFasching mit Ottmar Albert im ABZ: Mittwoch\, 07.
 02.\, von 14:11 UhrGanzheitliches Gedächtnistraining: Donnerstag 08.02. un
 d 29.02.\, um 10:00 UhrStrickkreis: Donnerstag\, 08.02. und 22.02.\, um 14
 :00 UhrPflege- und Wohnberatung: Freitag\, 09.02. von 09:00 - 12:00 Uhr (O
 ffenes Beratungsangebot im Quartier Zellerau)Trauer-Treff der Malteser: Mi
 ttwoch\, 14.02.\, um 17:00 Uhr (Info im ABZ)Aschermittwoch Heringsessen: M
 ittwoch\, 14.02.\, um 12:00 Uhr (nur mit Anmeldung möglich!)Meditativer Ta
 nz: Montag\, 19.02. um 14:00 UhrGenuss-Café und Kuchen To go: Dienstag\, 2
 0.02. und 27.02.\, um 14:30 UhrWandertreff 50+: Freitag\, 23.02.\, um 10:0
 0 Uhr\nBitte beachten Sie folgendes:  • Nur mit Anmeldung ist eine Teilnah
 me möglich! Tel:0931/38659-145 • Wir bitten Sie\, unser Haus nicht zu betr
 eten\, wenn Sie an grippeähnlichen Symptomen leiden: wie Husten\, Halsschm
 erzen\, Fieber\, Schnupfen oder Atemnot.\nIhr ABZ-Team https://kirche-zell
 erau.de/aktuelles/veranstaltungen/event/1238-englisch-im-abz
DTSTART:20240215T071500Z
DTEND:20240215T220000Z
LOCATION:ABZ Heiligkreuz (Sedanstraße 7A\, 97082\, Würzburg\, Bayern)
SUMMARY:Englisch im ABZ
URL:https://kirche-zellerau.de/aktuelles/veranstaltungen/event/1238-englisc
 h-im-abz
END:VEVENT
END:VCALENDAR
