BEGIN:VCALENDAR
VERSION:2.0
PRODID:-//https://kirche-zellerau.de///NONSGML kigkonsult.se iCalcreator 2.10.15//
METHOD:PUBLISH
BEGIN:VEVENT
UID:20260419T214150CEST-8050KFM1kU@https://kirche-zellerau.de/
DTSTAMP:20260419T194150Z
DESCRIPTION:Bitte eigene Stöcke mitbringen!\n\nWöchentlich wiederkehrend An
 gebote:\nMontag: 10:00 Uhr Gesundheits-Walk … Lauf deinem Schmerz davon&nb
 sp\;· 16:00 Uhr Gymastik MS-Gruppe · 17:45 Uhr Seniorenchor für Menschen m
 it Demenz und ihre Angehörigen (14. und 21.10.24)Dienstag: 13:30 Uhr Sitzt
 anz (nicht am 22.10.) · 15:00 Uhr TischtennisMittwoch: 10:00 Uhr Nordic Wa
 lkingDonnerstag:&nbsp\; 08:15 Uhr Englisch · 13:00 Uhr Schafkopf · 13-16:0
 0 Uhr Behörden Coach · 15:00 Uhr Tischtennis\nZusätzliche Angebote:\nGotte
 sdienst der Sinne: Dienstag\, 01.10.\, um 14:00 Uhr\; Kirche und Begegnung
  für Menschen mit und ohne Demenz\, mit Pfarrer Werner Vollmuth und Rosema
 rie HeimbergerGenuss-Café und Kuchen To go: Dienstag\, 08.10.\, um 14:30 U
 hrTrauer-Treff der Malteser: Mittwoch\, 09.10.\, um 17:00 Uhr (bei den Mal
 tesern\, Mainaustraße 45)Ganzheitliches Gedächtnistraining: Donnerstag\, 1
 0.10. und 24.10.\, um 10:00 UhrStrickkreis: Donnerstag\, 10.10. und 24.10.
 \, um 14:00 UhrSpielenachmittag: Donnerstag\, 17.10. und 31.10.\, um 14:00
  UhrPflege- und Wohnberatung: Freitag\, 11.10.\, von 09:00 - 12:00 Uhr (Of
 fenes Beratungsangebot im Quartier Zellerau)Wirtshaussingen mit Ottmar Alb
 ert: Mittwoch\, 23.10.\, um 14:30 - 17:00 UhrWandertreff 50+: Freitag\, 25
 .10.\, um 10:00 UhrSpanferkelassen im ABZ: Mittwoch\, 30.10.\, um 12:00 Uh
 r\; nur mit Anmeldung möglich\nBitte beachten Sie folgendes:  • Nur mit An
 meldung ist eine Teilnahme möglich! Tel:0931/38659-145 • Wir bitten Sie\, 
 unser Haus nicht zu betreten\, wenn Sie an grippeähnlichen Symptomen leide
 n: wie Husten\, Halsschmerzen\, Fieber\, Schnupfen oder Atemnot.\nIhr ABZ-
 Team https://kirche-zellerau.de/aktuelles/veranstaltungen/event/1593-nordi
 c-walking-mit-dem-abz
DTSTART:20241002T080000Z
DTEND:20241002T210000Z
LOCATION:ABZ Heiligkreuz (Sedanstraße 7A\, 97082\, Würzburg\, Bayern)
SUMMARY:Nordic Walking mit dem ABZ
URL:https://kirche-zellerau.de/aktuelles/veranstaltungen/event/1593-nordic-
 walking-mit-dem-abz
END:VEVENT
END:VCALENDAR
