BEGIN:VCALENDAR
VERSION:2.0
PRODID:-//https://kirche-zellerau.de///NONSGML kigkonsult.se iCalcreator 2.10.15//
METHOD:PUBLISH
BEGIN:VEVENT
UID:20260419T201843CEST-8681sPuHii@https://kirche-zellerau.de/
DTSTAMP:20260419T181843Z
DESCRIPTION:Highlight im Advent: Adventliche Stimmung mit den Bockertöberle
  am Dienstag\, 10.12.2024 um 14:30 Uhr im ABZ\; der Traditions-Club aus Gr
 ombühl verwöhnt uns mit musikalischen Darbietungen.\n\nWeihnachtsferien vo
 n 20.12.2024 - 06.01.2025!\nWöchentlich wiederkehrend Angebote:\nMontag: 1
 0:00 Uhr Gesundheits-Walk … Lauf deinem Schmerz davon&nbsp\;· 16:00 Uhr Gy
 mastik MS-Gruppe · 17:45 Uhr Seniorenchor für Menschen mit Demenz und ihre
  Angehörigen (09. und 16.12.2024))Dienstag: 13:30 Uhr Sitztanz · 15:00 Uhr
  TischtennisMittwoch: 10:00 Uhr Nordic WalkingDonnerstag:&nbsp\; 08:15 Uhr
  Englisch · 13:00 Uhr Schafkopf · 13-16:00 Uhr Behörden Coach · 15:00 Uhr 
 Tischtennis\nZusätzliche Angebote:\nHighlight im Advent: Dienstag\, 04.12.
 \, um 14:30 Uhr\; Auftakt in den Advent mit den Kindern aus dem Kiga Heili
 gkreuz und der Vee-Harfen-GruppeGanzheitliches Gedächtnistraining: Donners
 tag\, 05.12. und 19.12.\, um 10:00 UhrStrickkreis: Donnerstag\, 05.12.\, u
 m 14:00 UhrWandertreff 50+: Freitag\, 06.12.\, um 10:00 UhrTreffen Egerlän
 der G´moi: Montag\, 09.12.\, um 14:00 UhrHighlight im Advent: Dienstag\, 1
 0.12.\, um 14:30 Uhr\; Adventliche Stimmung mit den Bockertöberle (Traditi
 ons-Club aus Grombühl)Trauer-Treff der Malteser: Mittwoch\, 13.12.\, um 17
 :00 Uhr (bei den Maltesern\, Mainaustraße 45)Spielenachmittag: Donnerstag\
 , 12.12. und 28.11.\, um 14:00 UhrPflege- und Wohnberatung: Freitag\, 13.1
 2.\, von 09:00 - 12:00 Uhr (Offenes Beratungsangebot)Highlight im Advent: 
 Mittwoch\, 18.12.\, um 14:30 - 17:00 Uhr\; Wirtshaussingen mit Ottmar Albe
 rt\nBitte beachten Sie folgendes:  • Nur mit Anmeldung ist eine Teilnahme 
 möglich! Tel:0931/38659-145 • Wir bitten Sie\, unser Haus nicht zu betrete
 n\, wenn Sie an grippeähnlichen Symptomen leiden: wie Husten\, Halsschmerz
 en\, Fieber\, Schnupfen oder Atemnot.\nIhr ABZ-Team https://kirche-zellera
 u.de/aktuelles/veranstaltungen/event/1700-highlight-im-advent-adventliche-
 stimmung-mit-den-bockertöberle-im-abz
DTSTART:20241210T133000Z
DTEND:20241210T220000Z
LOCATION:ABZ Heiligkreuz (Sedanstraße 7A\, 97082\, Würzburg\, Bayern)
SUMMARY:Highlight im Advent: Adventliche Stimmung mit den Bockertöberle im 
 ABZ
URL:https://kirche-zellerau.de/aktuelles/veranstaltungen/event/1700-highlig
 ht-im-advent-adventliche-stimmung-mit-den-bockertöberle-im-abz
END:VEVENT
END:VCALENDAR
