BEGIN:VCALENDAR
VERSION:2.0
PRODID:-//https://kirche-zellerau.de///NONSGML kigkonsult.se iCalcreator 2.10.15//
METHOD:PUBLISH
BEGIN:VEVENT
UID:20260420T184831CEST-009636ROpI@https://kirche-zellerau.de/
DTSTAMP:20260420T164831Z
DESCRIPTION:Sonntag\, 19.04.2026 um 19:00 Uhr I Pfarrkirche HeiligkreuzOrge
 lkonzertKirsten Sturm (Frankfurt) - OrgelWerke von J. S. Bach\, F. Mendels
 sohn Bartholdy und Franz LisztDer Eintritt ist frei - Spenden erbeten http
 s://kirche-zellerau.de/aktuelles/veranstaltungen/event/2301-orgelkonzert-m
 it-kirsten-sturm-frankfurt
DTSTART:20260419T170000Z
DTEND:20260419T210000Z
LOCATION:Pfarrkirche Heiligkreuz (Friedrichstraße 26\, 97082\, Würzburg\, B
 ayern)
SUMMARY:Orgelkonzert mit Kirsten Sturm (Frankfurt)
URL:https://kirche-zellerau.de/aktuelles/veranstaltungen/event/2301-orgelko
 nzert-mit-kirsten-sturm-frankfurt
END:VEVENT
END:VCALENDAR
