BEGIN:VCALENDAR
VERSION:2.0
PRODID:-//https://kirche-zellerau.de///NONSGML kigkonsult.se iCalcreator 2.10.15//
METHOD:PUBLISH
BEGIN:VEVENT
UID:20260419T165302CEST-9838Iv4x3r@https://kirche-zellerau.de/
DTSTAMP:20260419T145302Z
DESCRIPTION:Mit Abstand Kaffee und Kuchen to go\n\nWöchentlich wiederkehren
 d Angebote:Montag:&nbsp\;10:00 Uhr Gesundheits-Walk … Lauf deinem Schmerz 
 davon&nbsp\;· 16:00 Uhr Gymastik MS-Gruppe&nbsp\;· 17:45 Uhr Seniorenchor 
 für Menschen mit Demenz und ihre AngehörigenDienstag: 13:30 Uhr Sitztanz ·
  15:00 Uhr TischtennisMittwoch:&nbsp\;10:00 Uhr Nordic WalkingDonnerstag:&
 nbsp\; 08:15 Uhr Englisch (Info im ABZ) · 13:00 Uhr Schafkopf\nZusätzliche
  Angebote:Spielenachmittag: Dienstag\, 02.03. und 16.03.\, um 14:00 UhrGan
 zheitliches Gedächtnistraining: Donnerstag 09.03. und 23.03.\, um 10:00 Uh
 r Abstandscafé und Kuchen To go: Dienstag\, 07.03. und 21.03.\, um 14:40 U
 hrStrickkreis: Donnerstag\, 09.03. und 23.03.\, um 14:00 UhrPflege- und Wo
 hnberatung (Offenes Beratungsangebot): Freitag\, 10.03. von 09:00 - 12:00 
 Uhr (nur mit Anmeldung möglich)Meditativer Tanz: Montag\, 13.03. um 14:00 
 UhrTreffen der Egerländer Gmoi: Montag\, 13.03.\, um 14:00 UhrFußpflege: M
 ittwoch 15.03. (nur mit Anmeldung möglich)Wirtshaussingen mit Ottmar Alber
 t: Mittwoch\, 15.03.\, um 14:00 - 17:00 Uhr„Im Wechsel der Zeiten“ - Besin
 nungszeit im ABZ\, Referentin\; Claudia Zinggl\, M.A.: Mittwoch\, 29.03.\,
  um 14:00 UhrWandertreff 50+: Freitag\, 31.03.\, um 10:00 Uhr\nBitte beach
 ten Sie folgendes:  • Nur mit Anmeldung ist eine Teilnahme möglich! Tel:09
 31/38659-145 • Wir bitten Sie\, unser Haus nicht zu betreten\, wenn Sie an
  grippeähnlichen Symptomen leiden: wie Husten\, Halsschmerzen\, Fieber\, S
 chnupfen oder Atemnot.\nIhr ABZ-Team https://kirche-zellerau.de/aktuelles/
 veranstaltungen/event/827-abstandscafé-und-kuchen-to-go-im-abz
DTSTART:20230321T133000Z
DTEND:20230321T220000Z
LOCATION:ABZ Heiligkreuz (Sedanstraße 7A\, 97082\, Würzburg\, Bayern)
SUMMARY:Abstandscafé und Kuchen to go im ABZ
URL:https://kirche-zellerau.de/aktuelles/veranstaltungen/event/827-abstands
 café-und-kuchen-to-go-im-abz
END:VEVENT
END:VCALENDAR
